BEGIN:VCALENDAR
VERSION:2.0
PRODID:-//Kaiser Permanente KPproud Mid-Atlantic States - ECPv6.15.17.1//NONSGML v1.0//EN
CALSCALE:GREGORIAN
METHOD:PUBLISH
X-ORIGINAL-URL:https://kpproud-midatlantic.kaiserpermanente.org
X-WR-CALDESC:Events for Kaiser Permanente KPproud Mid-Atlantic States
REFRESH-INTERVAL;VALUE=DURATION:PT1H
X-Robots-Tag:noindex
X-PUBLISHED-TTL:PT1H
BEGIN:VTIMEZONE
TZID:UTC
BEGIN:STANDARD
TZOFFSETFROM:+0000
TZOFFSETTO:+0000
TZNAME:UTC
DTSTART:20150101T000000
END:STANDARD
END:VTIMEZONE
BEGIN:VEVENT
DTSTART;VALUE=DATE:20160605
DTEND;VALUE=DATE:20160606
DTSTAMP:20260419T155251
CREATED:20160407T212902Z
LAST-MODIFIED:20160407T212902Z
UID:1375-1465084800-1465171199@kpproud-midatlantic.kaiserpermanente.org
SUMMARY:Northern Virginia Tour de Cure
DESCRIPTION:Ride to Stop Diabetes: Join the Kaiser Permanente Northern Virginia Tour de Cure Team \nDid you know that 29 million children and adults are living with diabetes? The good news is that the American Diabetes Association is committed to creating a world free of diabetes and with your help we can realize that vision! \nFor the sixth year in a row\, Kaiser Permanente is a proud sponsor of the American Diabetes Association’s Northern Virginia Tour de Cure\, a premier cycling and fundraising event for diabetes research and educational programs. The event will take place on Sunday\, June 5\, 2016 at Reston Town Center in Reston\, VA. \nJOIN TEAM KP THRIVE! \nWe want you on our KP Thrive team! The Tour is a ride\, not a race\, with routes designed for everyone from the occasional rider to the experienced cyclist. \nWHO CAN JOIN: Anyone can join and all are welcome! Staff\, physicians\, family\, and friends can participate. No bike? Bike rentals will be available for the day. \nHOW TO JOIN: Go to Team KP Thrive and click on the “Join this Team” button. There is a $25 registration fee to join. The first twenty registrants will get a free registration by entering the code: KAISER2016. \nFUNDRAISING: There is a $250 minimum fundraising commitment for all riders. \nDON’T DELAY\, REGISTER TODAY!
URL:https://kpproud-midatlantic.kaiserpermanente.org/event/northern-virginia-tour-de-cure/
LOCATION:DC
END:VEVENT
END:VCALENDAR